BEGIN:VCALENDAR
VERSION:2.0
PRODID:-//Kevin A Davis - ECPv6.15.20//NONSGML v1.0//EN
CALSCALE:GREGORIAN
METHOD:PUBLISH
X-WR-CALNAME:Kevin A Davis
X-ORIGINAL-URL:https://kevinarthurdavis.com
X-WR-CALDESC:Events for Kevin A Davis
REFRESH-INTERVAL;VALUE=DURATION:PT1H
X-Robots-Tag:noindex
X-PUBLISHED-TTL:PT1H
BEGIN:VTIMEZONE
TZID:UTC
BEGIN:STANDARD
TZOFFSETFROM:+0000
TZOFFSETTO:+0000
TZNAME:UTC
DTSTART:20190101T000000
END:STANDARD
END:VTIMEZONE
BEGIN:VEVENT
DTSTART;TZID=UTC:20200903T080000
DTEND;TZID=UTC:20200907T170000
DTSTAMP:20260419T170132
CREATED:20200225T094711Z
LAST-MODIFIED:20200225T094711Z
UID:90-1599120000-1599498000@kevinarthurdavis.com
SUMMARY:DragonCon 2020
DESCRIPTION:Downtown Atlanta
URL:https://kevinarthurdavis.com/index.php/event/dragoncon-2020/
LOCATION:GA
END:VEVENT
BEGIN:VEVENT
DTSTART;TZID=UTC:20200730T080000
DTEND;TZID=UTC:20200802T170000
DTSTAMP:20260419T170132
CREATED:20200225T094436Z
LAST-MODIFIED:20200225T094454Z
UID:86-1596096000-1596387600@kevinarthurdavis.com
SUMMARY:GenCon Writer's Symposium 2020
DESCRIPTION:
URL:https://kevinarthurdavis.com/index.php/event/gencon-2020/
LOCATION:Indiana Convention Center\, 100 S Capitol Ave\, Indianapolis\, IN\, 46225\, United States
END:VEVENT
BEGIN:VEVENT
DTSTART;TZID=UTC:20200417T080000
DTEND;TZID=UTC:20200419T170000
DTSTAMP:20260419T170132
CREATED:20200224T090349Z
LAST-MODIFIED:20200224T090349Z
UID:71-1587110400-1587315600@kevinarthurdavis.com
SUMMARY:JordanCon
DESCRIPTION:Atlanta con focused on the writings of Robert Jordan.
URL:https://kevinarthurdavis.com/index.php/event/jordancon/
LOCATION:Crowne Plaza Atlanta Perimeter at Ravinia\, 4355 Ashford Dunwoody Road\, Atlanta\, GA\, 30346\, United States
END:VEVENT
END:VCALENDAR